BEGIN:VCALENDAR
VERSION:2.0
PRODID:-//StreamRadar//Match Calendar//EN
CALSCALE:GREGORIAN
METHOD:PUBLISH
X-WR-CALNAME:Ryazan vs Spartak Moskva
X-WR-TIMEZONE:America/New_York
BEGIN:VEVENT
UID:match-5594669@streamradar.soccer
SUMMARY:Ryazan vs Spartak Moskva
DTSTAMP:20260422T082348Z
DTSTART;TZID=America/New_York:20260919T060000
DTEND;TZID=America/New_York:20260919T080000
LOCATION:SportComplex Znamja Truda
DESCRIPTION:Wo Sie Ryazan vs Spartak Moskva in Russland - Frauenfußball-Me
 isterschaft sehen können. Live-Stream und TV-Programm.\nhttps://streamrada
 r.soccer/de/match/5594669/ryazan-vs-spartak-moskva/
URL;VALUE=URI:https://streamradar.soccer/de/match/5594669/ryazan-vs-spartak
 -moskva/
STATUS:CONFIRMED
END:VEVENT
END:VCALENDAR
