BEGIN:VCALENDAR
VERSION:2.0
PRODID:-//StreamRadar//Match Calendar//EN
CALSCALE:GREGORIAN
METHOD:PUBLISH
X-WR-CALNAME:Atlético Nacional vs Deportivo Cali
X-WR-TIMEZONE:America/New_York
BEGIN:VEVENT
UID:match-5567951@streamradar.soccer
SUMMARY:Atlético Nacional vs Deportivo Cali
DTSTAMP:20260421T172608Z
DTSTART;TZID=America/New_York:20260802T160000
DTEND;TZID=America/New_York:20260802T180000
LOCATION:Estadio Atanasio Girardot
DESCRIPTION:Wo Sie Atlético Nacional vs Deportivo Cali in Kolumbien - Liga
  Femenina sehen können. Live-Stream und TV-Programm.\nhttps://streamradar.
 soccer/de/match/5567951/atletico-nacional-vs-deportivo-cali/
URL;VALUE=URI:https://streamradar.soccer/de/match/5567951/atletico-nacional
 -vs-deportivo-cali/
STATUS:CONFIRMED
END:VEVENT
END:VCALENDAR
