BEGIN:VCALENDAR
VERSION:2.0
PRODID:-//StreamRadar//Match Calendar//EN
CALSCALE:GREGORIAN
METHOD:PUBLISH
X-WR-CALNAME:Ã…storp vs Qviding FIF
X-WR-TIMEZONE:America/New_York
BEGIN:VEVENT
UID:match-5567079@streamradar.soccer
SUMMARY:Ã…storp vs Qviding FIF
DTSTAMP:20260422T181611Z
DTSTART;TZID=America/New_York:20260913T070000
DTEND;TZID=America/New_York:20260913T090000
DESCRIPTION:Wo Sie Ã…storp vs Qviding FIF in Schweden - Superettan sehen kÃ
 ¶nnen. Live-Stream und TV-Programm.\nhttps://streamradar.soccer/de/match/55
 67079/astorp-vs-qviding-fif/
URL;VALUE=URI:https://streamradar.soccer/de/match/5567079/astorp-vs-qviding
 -fif/
STATUS:CONFIRMED
END:VEVENT
END:VCALENDAR
