BEGIN:VCALENDAR
VERSION:2.0
PRODID:-//StreamRadar//Match Calendar//EN
CALSCALE:GREGORIAN
METHOD:PUBLISH
X-WR-CALNAME:Nacka Iliria vs Rågsved
X-WR-TIMEZONE:America/New_York
BEGIN:VEVENT
UID:match-5566898@streamradar.soccer
SUMMARY:Nacka Iliria vs Rågsved
DTSTAMP:20260422T082312Z
DTSTART;TZID=America/New_York:20260919T060000
DTEND;TZID=America/New_York:20260919T080000
DESCRIPTION:Wo Sie Nacka Iliria vs Rågsved in Schweden - Superettan sehen 
 können. Live-Stream und TV-Programm.\nhttps://streamradar.soccer/de/match/
 5566898/nacka-iliria-vs-ragsved/
URL;VALUE=URI:https://streamradar.soccer/de/match/5566898/nacka-iliria-vs-r
 agsved/
STATUS:CONFIRMED
END:VEVENT
END:VCALENDAR
