BEGIN:VCALENDAR
VERSION:2.0
PRODID:-//StreamRadar//Match Calendar//EN
CALSCALE:GREGORIAN
METHOD:PUBLISH
X-WR-CALNAME:Linero IF vs Staffanstorp United
X-WR-TIMEZONE:America/New_York
BEGIN:VEVENT
UID:match-5566709@streamradar.soccer
SUMMARY:Linero IF vs Staffanstorp United
DTSTAMP:20260422T194454Z
DTSTART;TZID=America/New_York:20260912T070000
DTEND;TZID=America/New_York:20260912T090000
DESCRIPTION:Wo Sie Linero IF vs Staffanstorp United in Schweden - Superetta
 n sehen können. Live-Stream und TV-Programm.\nhttps://streamradar.soccer/d
 e/match/5566709/linero-if-vs-staffanstorp-united/
URL;VALUE=URI:https://streamradar.soccer/de/match/5566709/linero-if-vs-staf
 fanstorp-united/
STATUS:CONFIRMED
END:VEVENT
END:VCALENDAR
