BEGIN:VCALENDAR
VERSION:2.0
PRODID:-//StreamRadar//Match Calendar//EN
CALSCALE:GREGORIAN
METHOD:PUBLISH
X-WR-CALNAME:KarlstAD II vs Skara
X-WR-TIMEZONE:America/New_York
BEGIN:VEVENT
UID:match-5566348@streamradar.soccer
SUMMARY:KarlstAD II vs Skara
DTSTAMP:20260421T160908Z
DTSTART;TZID=America/New_York:20260912T070000
DTEND;TZID=America/New_York:20260912T090000
DESCRIPTION:Wo Sie KarlstAD II vs Skara in Schweden - Superettan sehen kön
 nen. Live-Stream und TV-Programm.\nhttps://streamradar.soccer/de/match/5566
 348/karlstad-ii-vs-skara/
URL;VALUE=URI:https://streamradar.soccer/de/match/5566348/karlstad-ii-vs-sk
 ara/
STATUS:CONFIRMED
END:VEVENT
END:VCALENDAR
