BEGIN:VCALENDAR
VERSION:2.0
PRODID:-//StreamRadar//Match Calendar//EN
CALSCALE:GREGORIAN
METHOD:PUBLISH
X-WR-CALNAME:FC Cincinnati II vs Crown Legacy
X-WR-TIMEZONE:America/New_York
BEGIN:VEVENT
UID:match-5565975@streamradar.soccer
SUMMARY:FC Cincinnati II vs Crown Legacy
DTSTAMP:20260425T162302Z
DTSTART;TZID=America/New_York:20260920T140000
DTEND;TZID=America/New_York:20260920T160000
LOCATION:NKU Soccer Stadium
DESCRIPTION:Wo Sie FC Cincinnati II vs Crown Legacy in MLS Next Pro sehen k
 önnen. Live-Stream und TV-Programm.\nhttps://streamradar.soccer/de/match/5
 565975/fc-cincinnati-ii-vs-crown-legacy/
URL;VALUE=URI:https://streamradar.soccer/de/match/5565975/fc-cincinnati-ii-
 vs-crown-legacy/
STATUS:CONFIRMED
END:VEVENT
END:VCALENDAR
