BEGIN:VCALENDAR
VERSION:2.0
PRODID:-//StreamRadar//Match Calendar//EN
CALSCALE:GREGORIAN
METHOD:PUBLISH
X-WR-CALNAME:Tukums vs Grobiņa
X-WR-TIMEZONE:America/New_York
BEGIN:VEVENT
UID:match-5561943@streamradar.soccer
SUMMARY:Tukums vs Grobiņa
DTSTAMP:20260423T155612Z
DTSTART;TZID=America/New_York:20260920T090000
DTEND;TZID=America/New_York:20260920T110000
DESCRIPTION:Wo Sie Tukums vs Grobiņa in Lettland - Virslīga sehen können
 . Live-Stream und TV-Programm.\nhttps://streamradar.soccer/de/match/5561943
 /tukums-vs-grobi-a/
URL;VALUE=URI:https://streamradar.soccer/de/match/5561943/tukums-vs-grobi-a
 /
STATUS:CONFIRMED
END:VEVENT
END:VCALENDAR
