BEGIN:VCALENDAR
VERSION:2.0
PRODID:-//StreamRadar//Match Calendar//EN
CALSCALE:GREGORIAN
METHOD:PUBLISH
X-WR-CALNAME:NÃµmme Kalju vs Trans
X-WR-TIMEZONE:America/New_York
BEGIN:VEVENT
UID:match-5561670@streamradar.soccer
SUMMARY:NÃµmme Kalju vs Trans
DTSTAMP:20260421T135918Z
DTSTART;TZID=America/New_York:20260911T120000
DTEND;TZID=America/New_York:20260911T140000
LOCATION:Hiiu Stadium
DESCRIPTION:Wo Sie NÃµmme Kalju vs Trans in Estland - Meistriliiga sehen kÃ
 ¶nnen. Live-Stream und TV-Programm.\nhttps://streamradar.soccer/de/match/55
 61670/nomme-kalju-vs-trans/
URL;VALUE=URI:https://streamradar.soccer/de/match/5561670/nomme-kalju-vs-tr
 ans/
STATUS:CONFIRMED
END:VEVENT
END:VCALENDAR
