BEGIN:VCALENDAR
VERSION:2.0
PRODID:-//StreamRadar//Match Calendar//EN
CALSCALE:GREGORIAN
METHOD:PUBLISH
X-WR-CALNAME:Trans vs Flora
X-WR-TIMEZONE:America/New_York
BEGIN:VEVENT
UID:match-5561666@streamradar.soccer
SUMMARY:Trans vs Flora
DTSTAMP:20260422T053158Z
DTSTART;TZID=America/New_York:20260908T120000
DTEND;TZID=America/New_York:20260908T140000
LOCATION:Narva Kreenholmi staadion
DESCRIPTION:Wo Sie Trans vs Flora in Estland - Meistriliiga sehen können. 
 Live-Stream und TV-Programm.\nhttps://streamradar.soccer/de/match/5561666/t
 rans-vs-flora/
URL;VALUE=URI:https://streamradar.soccer/de/match/5561666/trans-vs-flora/
STATUS:CONFIRMED
END:VEVENT
END:VCALENDAR
