BEGIN:VCALENDAR
VERSION:2.0
PRODID:-//StreamRadar//Match Calendar//EN
CALSCALE:GREGORIAN
METHOD:PUBLISH
X-WR-CALNAME:Flora vs NÃµmme Kalju
X-WR-TIMEZONE:America/New_York
BEGIN:VEVENT
UID:match-5561660@streamradar.soccer
SUMMARY:Flora vs NÃµmme Kalju
DTSTAMP:20260421T135902Z
DTSTART;TZID=America/New_York:20260904T120000
DTEND;TZID=America/New_York:20260904T140000
LOCATION:A. Le Coq Arena
DESCRIPTION:Wo Sie Flora vs NÃµmme Kalju in Estland - Meistriliiga sehen kÃ
 ¶nnen. Live-Stream und TV-Programm.\nhttps://streamradar.soccer/de/match/55
 61660/flora-vs-nomme-kalju/
URL;VALUE=URI:https://streamradar.soccer/de/match/5561660/flora-vs-nomme-ka
 lju/
STATUS:CONFIRMED
END:VEVENT
END:VCALENDAR
