BEGIN:VCALENDAR
VERSION:2.0
PRODID:-//StreamRadar//Match Calendar//EN
CALSCALE:GREGORIAN
METHOD:PUBLISH
X-WR-CALNAME:Paide vs Nõmme United
X-WR-TIMEZONE:America/New_York
BEGIN:VEVENT
UID:match-5561558@streamradar.soccer
SUMMARY:Paide vs Nõmme United
DTSTAMP:20260422T005922Z
DTSTART;TZID=America/New_York:20260408T120000
DTEND;TZID=America/New_York:20260408T140000
LOCATION:Paide linnastaadion
DESCRIPTION:Wo Sie Paide vs Nõmme United in Estland - Meistriliiga sehen k
 önnen. Live-Stream und TV-Programm.\nhttps://streamradar.soccer/de/match/5
 561558/paide-vs-nomme-united/
URL;VALUE=URI:https://streamradar.soccer/de/match/5561558/paide-vs-nomme-un
 ited/
STATUS:CONFIRMED
END:VEVENT
END:VCALENDAR
