BEGIN:VCALENDAR
VERSION:2.0
PRODID:-//StreamRadar//Match Calendar//EN
CALSCALE:GREGORIAN
METHOD:PUBLISH
X-WR-CALNAME:Nasaf vs Neftchi
X-WR-TIMEZONE:America/New_York
BEGIN:VEVENT
UID:match-5561462@streamradar.soccer
SUMMARY:Nasaf vs Neftchi
DTSTAMP:20260421T220335Z
DTSTART;TZID=America/New_York:20260903T110000
DTEND;TZID=America/New_York:20260903T130000
LOCATION:Markaziy Stadium
DESCRIPTION:Wo Sie Nasaf vs Neftchi in Uzbekistan Super League sehen könne
 n. Live-Stream und TV-Programm.\nhttps://streamradar.soccer/de/match/556146
 2/nasaf-vs-neftchi/
URL;VALUE=URI:https://streamradar.soccer/de/match/5561462/nasaf-vs-neftchi/
STATUS:CONFIRMED
END:VEVENT
END:VCALENDAR
