BEGIN:VCALENDAR
VERSION:2.0
PRODID:-//StreamRadar//Match Calendar//EN
CALSCALE:GREGORIAN
METHOD:PUBLISH
X-WR-CALNAME:Pakhtakor vs Dinamo Samarqand
X-WR-TIMEZONE:America/New_York
BEGIN:VEVENT
UID:match-5561369@streamradar.soccer
SUMMARY:Pakhtakor vs Dinamo Samarqand
DTSTAMP:20260421T110305Z
DTSTART;TZID=America/New_York:20260418T111500
DTEND;TZID=America/New_York:20260418T131500
LOCATION:Pakhtakor Central Stadium
DESCRIPTION:Wo Sie Pakhtakor vs Dinamo Samarqand in Uzbekistan Super League
  sehen können. Live-Stream und TV-Programm.\nhttps://streamradar.soccer/de
 /match/5561369/pakhtakor-vs-dinamo-samarqand/
URL;VALUE=URI:https://streamradar.soccer/de/match/5561369/pakhtakor-vs-dina
 mo-samarqand/
STATUS:CONFIRMED
END:VEVENT
END:VCALENDAR
