BEGIN:VCALENDAR
VERSION:2.0
PRODID:-//StreamRadar//Match Calendar//EN
CALSCALE:GREGORIAN
METHOD:PUBLISH
X-WR-CALNAME:San Martín Burzaco vs Deportivo Laferrere
X-WR-TIMEZONE:America/New_York
BEGIN:VEVENT
UID:match-5560762@streamradar.soccer
SUMMARY:San Martín Burzaco vs Deportivo Laferrere
DTSTAMP:20260422T054733Z
DTSTART;TZID=America/New_York:20260919T160000
DTEND;TZID=America/New_York:20260919T180000
LOCATION:Francisco Boga Stadium
DESCRIPTION:Wo Sie San Martín Burzaco vs Deportivo Laferrere in Argentinie
 n - Primera B Metropolitana sehen können. Live-Stream und TV-Programm.\nht
 tps://streamradar.soccer/de/match/5560762/san-martin-burzaco-vs-deportivo-l
 aferrere/
URL;VALUE=URI:https://streamradar.soccer/de/match/5560762/san-martin-burzac
 o-vs-deportivo-laferrere/
STATUS:CONFIRMED
END:VEVENT
END:VCALENDAR
