BEGIN:VCALENDAR
VERSION:2.0
PRODID:-//StreamRadar//Match Calendar//EN
CALSCALE:GREGORIAN
METHOD:PUBLISH
X-WR-CALNAME:Villa Dálmine vs Arsenal
X-WR-TIMEZONE:America/New_York
BEGIN:VEVENT
UID:match-5560743@streamradar.soccer
SUMMARY:Villa Dálmine vs Arsenal
DTSTAMP:20260421T085412Z
DTSTART;TZID=America/New_York:20260905T160000
DTEND;TZID=America/New_York:20260905T180000
LOCATION:Estadio El Coliseo de Mitre y Puccini
DESCRIPTION:Wo Sie Villa Dálmine vs Arsenal in Argentinien - Primera B Met
 ropolitana sehen können. Live-Stream und TV-Programm.\nhttps://streamradar
 .soccer/de/match/5560743/villa-dalmine-vs-arsenal/
URL;VALUE=URI:https://streamradar.soccer/de/match/5560743/villa-dalmine-vs-
 arsenal/
STATUS:CONFIRMED
END:VEVENT
END:VCALENDAR
