BEGIN:VCALENDAR
VERSION:2.0
PRODID:-//StreamRadar//Match Calendar//EN
CALSCALE:GREGORIAN
METHOD:PUBLISH
X-WR-CALNAME:Brown de Adrogué vs Villa Dálmine
X-WR-TIMEZONE:America/New_York
BEGIN:VEVENT
UID:match-5560460@streamradar.soccer
SUMMARY:Brown de Adrogué vs Villa Dálmine
DTSTAMP:20260422T020431Z
DTSTART;TZID=America/New_York:20260403T140000
DTEND;TZID=America/New_York:20260403T160000
LOCATION:Estadio Lorenzo Arandilla
DESCRIPTION:Wo Sie Brown De Adrogué vs Villa Dálmine in Argentinien - Pri
 mera B Metropolitana sehen können. Live-Stream und TV-Programm.\nhttps://s
 treamradar.soccer/de/match/5560460/brown-de-adrogue-vs-villa-dalmine/
URL;VALUE=URI:https://streamradar.soccer/de/match/5560460/brown-de-adrogue-
 vs-villa-dalmine/
STATUS:CONFIRMED
END:VEVENT
END:VCALENDAR
