BEGIN:VCALENDAR
VERSION:2.0
PRODID:-//StreamRadar//Match Calendar//EN
CALSCALE:GREGORIAN
METHOD:PUBLISH
X-WR-CALNAME:Tianjin Tigers vs Hangzhou
X-WR-TIMEZONE:America/New_York
BEGIN:VEVENT
UID:match-5560400@streamradar.soccer
SUMMARY:Tianjin Tigers vs Hangzhou
DTSTAMP:20260423T155715Z
DTSTART;TZID=America/New_York:20260906T080000
DTEND;TZID=America/New_York:20260906T100000
LOCATION:Olympic Sports Center Stadium
DESCRIPTION:Wo Sie Tianjin Tigers vs Hangzhou in China - Chinese Super Leag
 ue sehen können. Live-Stream und TV-Programm.\nhttps://streamradar.soccer/
 de/match/5560400/tianjin-tigers-vs-hangzhou/
URL;VALUE=URI:https://streamradar.soccer/de/match/5560400/tianjin-tigers-vs
 -hangzhou/
STATUS:CONFIRMED
END:VEVENT
END:VCALENDAR
