BEGIN:VCALENDAR
VERSION:2.0
PRODID:-//StreamRadar//Match Calendar//EN
CALSCALE:GREGORIAN
METHOD:PUBLISH
X-WR-CALNAME:Qingdao West Coast vs Shanghai Port
X-WR-TIMEZONE:America/New_York
BEGIN:VEVENT
UID:match-5560323@streamradar.soccer
SUMMARY:Qingdao West Coast vs Shanghai Port
DTSTAMP:20260421T165352Z
DTSTART;TZID=America/New_York:20260704T070000
DTEND;TZID=America/New_York:20260704T090000
LOCATION:Qingdao Guzhenkou University City Sports Center
DESCRIPTION:Wo Sie Qingdao West Coast vs Shanghai Port in China - Chinese S
 uper League sehen können. Live-Stream und TV-Programm.\nhttps://streamrada
 r.soccer/de/match/5560323/qingdao-west-coast-vs-shanghai-port/
URL;VALUE=URI:https://streamradar.soccer/de/match/5560323/qingdao-west-coas
 t-vs-shanghai-port/
STATUS:CONFIRMED
END:VEVENT
END:VCALENDAR
