BEGIN:VCALENDAR
VERSION:2.0
PRODID:-//StreamRadar//Match Calendar//EN
CALSCALE:GREGORIAN
METHOD:PUBLISH
X-WR-CALNAME:Shandong Taishan vs Wuhan Three Towns
X-WR-TIMEZONE:America/New_York
BEGIN:VEVENT
UID:match-5560302@streamradar.soccer
SUMMARY:Shandong Taishan vs Wuhan Three Towns
DTSTAMP:20260423T172303Z
DTSTART;TZID=America/New_York:20260524T073500
DTEND;TZID=America/New_York:20260524T093500
LOCATION:Jinan Olympic Sports Center Stadium
DESCRIPTION:Wo Sie Shandong Taishan vs Wuhan Three Towns in China - Chinese
  Super League sehen können. Live-Stream und TV-Programm.\nhttps://streamra
 dar.soccer/de/match/5560302/shandong-taishan-vs-wuhan-three-towns/
URL;VALUE=URI:https://streamradar.soccer/de/match/5560302/shandong-taishan-
 vs-wuhan-three-towns/
STATUS:CONFIRMED
END:VEVENT
END:VCALENDAR
