BEGIN:VCALENDAR
VERSION:2.0
PRODID:-//StreamRadar//Match Calendar//EN
CALSCALE:GREGORIAN
METHOD:PUBLISH
X-WR-CALNAME:Defensores de Belgrano vs Ferro Carril Oeste
X-WR-TIMEZONE:America/New_York
BEGIN:VEVENT
UID:match-5560116@streamradar.soccer
SUMMARY:Defensores de Belgrano vs Ferro Carril Oeste
DTSTAMP:20260422T065717Z
DTSTART;TZID=America/New_York:20260919T160000
DTEND;TZID=America/New_York:20260919T180000
LOCATION:Estadio Juan Pasquale
DESCRIPTION:Wo Sie Defensores De Belgrano vs Ferro Carril Oeste in Argentin
 ien - Primera Nacional sehen können. Live-Stream und TV-Programm.\nhttps:/
 /streamradar.soccer/de/match/5560116/defensores-de-belgrano-vs-ferro-carril
 -oeste/
URL;VALUE=URI:https://streamradar.soccer/de/match/5560116/defensores-de-bel
 grano-vs-ferro-carril-oeste/
STATUS:CONFIRMED
END:VEVENT
END:VCALENDAR
