BEGIN:VCALENDAR
VERSION:2.0
PRODID:-//StreamRadar//Match Calendar//EN
CALSCALE:GREGORIAN
METHOD:PUBLISH
X-WR-CALNAME:Almirante Brown vs Acassuso
X-WR-TIMEZONE:America/New_York
BEGIN:VEVENT
UID:match-5560110@streamradar.soccer
SUMMARY:Almirante Brown vs Acassuso
DTSTAMP:20260422T053925Z
DTSTART;TZID=America/New_York:20260919T160000
DTEND;TZID=America/New_York:20260919T180000
LOCATION:Estadio Fragata Presidente Sarmiento
DESCRIPTION:Wo Sie Almirante Brown vs Acassuso in Argentinien - Primera Nac
 ional sehen können. Live-Stream und TV-Programm.\nhttps://streamradar.socc
 er/de/match/5560110/almirante-brown-vs-acassuso/
URL;VALUE=URI:https://streamradar.soccer/de/match/5560110/almirante-brown-v
 s-acassuso/
STATUS:CONFIRMED
END:VEVENT
END:VCALENDAR
