BEGIN:VCALENDAR
VERSION:2.0
PRODID:-//StreamRadar//Match Calendar//EN
CALSCALE:GREGORIAN
METHOD:PUBLISH
X-WR-CALNAME:Deportivo Maipú vs Gimnasia Jujuy
X-WR-TIMEZONE:America/New_York
BEGIN:VEVENT
UID:match-5560099@streamradar.soccer
SUMMARY:Deportivo Maipú vs Gimnasia Jujuy
DTSTAMP:20260421T122716Z
DTSTART;TZID=America/New_York:20260912T160000
DTEND;TZID=America/New_York:20260912T180000
LOCATION:Stadion Omar Higinio Sperdutti
DESCRIPTION:Wo Sie Deportivo Maipú vs Gimnasia Jujuy in Argentinien - Prim
 era Nacional sehen können. Live-Stream und TV-Programm.\nhttps://streamrad
 ar.soccer/de/match/5560099/deportivo-maipu-vs-gimnasia-jujuy/
URL;VALUE=URI:https://streamradar.soccer/de/match/5560099/deportivo-maipu-v
 s-gimnasia-jujuy/
STATUS:CONFIRMED
END:VEVENT
END:VCALENDAR
