BEGIN:VCALENDAR
VERSION:2.0
PRODID:-//StreamRadar//Match Calendar//EN
CALSCALE:GREGORIAN
METHOD:PUBLISH
X-WR-CALNAME:Almagro vs Deportivo Maipú
X-WR-TIMEZONE:America/New_York
BEGIN:VEVENT
UID:match-5560073@streamradar.soccer
SUMMARY:Almagro vs Deportivo Maipú
DTSTAMP:20260421T093655Z
DTSTART;TZID=America/New_York:20260905T160000
DTEND;TZID=America/New_York:20260905T180000
LOCATION:Estadio Tres de Febrero
DESCRIPTION:Wo Sie Almagro vs Deportivo Maipú in Argentinien - Primera Nac
 ional sehen können. Live-Stream und TV-Programm.\nhttps://streamradar.socc
 er/de/match/5560073/almagro-vs-deportivo-maipu/
URL;VALUE=URI:https://streamradar.soccer/de/match/5560073/almagro-vs-deport
 ivo-maipu/
STATUS:CONFIRMED
END:VEVENT
END:VCALENDAR
