BEGIN:VCALENDAR
VERSION:2.0
PRODID:-//StreamRadar//Match Calendar//EN
CALSCALE:GREGORIAN
METHOD:PUBLISH
X-WR-CALNAME:Ferro Carril Oeste vs Estudiantes Caseros
X-WR-TIMEZONE:America/New_York
BEGIN:VEVENT
UID:match-5559723@streamradar.soccer
SUMMARY:Ferro Carril Oeste vs Estudiantes Caseros
DTSTAMP:20260421T183124Z
DTSTART;TZID=America/New_York:20260412T140000
DTEND;TZID=America/New_York:20260412T160000
LOCATION:Estadio Arquitecto Ricardo Etcheverry
DESCRIPTION:Wo Sie Ferro Carril Oeste vs Estudiantes Caseros in Argentinien
  - Primera Nacional sehen können. Live-Stream und TV-Programm.\nhttps://st
 reamradar.soccer/de/match/5559723/ferro-carril-oeste-vs-estudiantes-caseros
 /
URL;VALUE=URI:https://streamradar.soccer/de/match/5559723/ferro-carril-oest
 e-vs-estudiantes-caseros/
STATUS:CONFIRMED
END:VEVENT
END:VCALENDAR
