BEGIN:VCALENDAR
VERSION:2.0
PRODID:-//StreamRadar//Match Calendar//EN
CALSCALE:GREGORIAN
METHOD:PUBLISH
X-WR-CALNAME:Goiás vs Avaí
X-WR-TIMEZONE:America/New_York
BEGIN:VEVENT
UID:match-5559566@streamradar.soccer
SUMMARY:Goiás vs Avaí
DTSTAMP:20260422T042046Z
DTSTART;TZID=America/New_York:20260919T150000
DTEND;TZID=America/New_York:20260919T170000
DESCRIPTION:Wo Sie Goiás vs Avaí in Brasilien - Serie B sehen können. Li
 ve-Stream und TV-Programm.\nhttps://streamradar.soccer/de/match/5559566/goi
 as-vs-avai/
URL;VALUE=URI:https://streamradar.soccer/de/match/5559566/goias-vs-avai/
STATUS:CONFIRMED
END:VEVENT
END:VCALENDAR
