BEGIN:VCALENDAR
VERSION:2.0
PRODID:-//StreamRadar//Match Calendar//EN
CALSCALE:GREGORIAN
METHOD:PUBLISH
X-WR-CALNAME:Atlético Goianiense vs Criciúma
X-WR-TIMEZONE:America/New_York
BEGIN:VEVENT
UID:match-5559553@streamradar.soccer
SUMMARY:Atlético Goianiense vs Criciúma
DTSTAMP:20260421T224505Z
DTSTART;TZID=America/New_York:20260912T150000
DTEND;TZID=America/New_York:20260912T170000
DESCRIPTION:Wo Sie Atlético Goianiense vs Criciúma in Brasilien - Serie B
  sehen können. Live-Stream und TV-Programm.\nhttps://streamradar.soccer/de
 /match/5559553/atletico-goianiense-vs-criciuma/
URL;VALUE=URI:https://streamradar.soccer/de/match/5559553/atletico-goianien
 se-vs-criciuma/
STATUS:CONFIRMED
END:VEVENT
END:VCALENDAR
