BEGIN:VCALENDAR
VERSION:2.0
PRODID:-//StreamRadar//Match Calendar//EN
CALSCALE:GREGORIAN
METHOD:PUBLISH
X-WR-CALNAME:América de Cali vs Orsomarso
X-WR-TIMEZONE:America/New_York
BEGIN:VEVENT
UID:match-5557481@streamradar.soccer
SUMMARY:América de Cali vs Orsomarso
DTSTAMP:20260423T012353Z
DTSTART;TZID=America/New_York:20260310T180000
DTEND;TZID=America/New_York:20260310T200000
LOCATION:Estadio Olímpico Pascual Guerrero (Santiago de Cali)
DESCRIPTION:Wo Sie América De Cali vs Orsomarso in Kolumbien - Liga Femeni
 na sehen können. Live-Stream und TV-Programm.\nhttps://streamradar.soccer/
 de/match/5557481/america-de-cali-vs-orsomarso/
URL;VALUE=URI:https://streamradar.soccer/de/match/5557481/america-de-cali-v
 s-orsomarso/
STATUS:CONFIRMED
END:VEVENT
END:VCALENDAR
