BEGIN:VCALENDAR
VERSION:2.0
PRODID:-//StreamRadar//Match Calendar//EN
CALSCALE:GREGORIAN
METHOD:PUBLISH
X-WR-CALNAME:Tchologo vs San-Pédro
X-WR-TIMEZONE:America/New_York
BEGIN:VEVENT
UID:match-5556666@streamradar.soccer
SUMMARY:Tchologo vs San-Pédro
DTSTAMP:20260423T163317Z
DTSTART;TZID=America/New_York:20260222T103000
DTEND;TZID=America/New_York:20260222T123000
DESCRIPTION:Wo Sie Tchologo vs San-Pédro in Côte d'Ivoire Premier Divisio
 n sehen können. Live-Stream und TV-Programm.\nhttps://streamradar.soccer/d
 e/match/5556666/tchologo-vs-san-pedro/
URL;VALUE=URI:https://streamradar.soccer/de/match/5556666/tchologo-vs-san-p
 edro/
STATUS:CONFIRMED
END:VEVENT
END:VCALENDAR
