BEGIN:VCALENDAR
VERSION:2.0
PRODID:-//StreamRadar//Match Calendar//EN
CALSCALE:GREGORIAN
METHOD:PUBLISH
X-WR-CALNAME:Mbarara City vs Calvary
X-WR-TIMEZONE:America/New_York
BEGIN:VEVENT
UID:match-5544914@streamradar.soccer
SUMMARY:Mbarara City vs Calvary
DTSTAMP:20260424T040704Z
DTSTART;TZID=America/New_York:20260212T080000
DTEND;TZID=America/New_York:20260212T100000
LOCATION:Rwamwanja stadium
DESCRIPTION:Wo Sie Mbarara City vs Calvary in Uganda - Premier League sehen
  können. Live-Stream und TV-Programm.\nhttps://streamradar.soccer/de/match
 /5544914/mbarara-city-vs-calvary/
URL;VALUE=URI:https://streamradar.soccer/de/match/5544914/mbarara-city-vs-c
 alvary/
STATUS:CONFIRMED
END:VEVENT
END:VCALENDAR
