BEGIN:VCALENDAR
VERSION:2.0
PRODID:-//StreamRadar//Match Calendar//EN
CALSCALE:GREGORIAN
METHOD:PUBLISH
X-WR-CALNAME:San Miguel vs Central Norte
X-WR-TIMEZONE:America/New_York
BEGIN:VEVENT
UID:match-5537163@streamradar.soccer
SUMMARY:San Miguel vs Central Norte
DTSTAMP:20260424T040704Z
DTSTART;TZID=America/New_York:20260213T150000
DTEND;TZID=America/New_York:20260213T170000
LOCATION:Estadio Malvinas Argentinas
DESCRIPTION:Wo Sie San Miguel vs Central Norte in Argentinien - Primera Nac
 ional sehen können. Live-Stream und TV-Programm.\nhttps://streamradar.socc
 er/de/match/5537163/san-miguel-vs-central-norte/
URL;VALUE=URI:https://streamradar.soccer/de/match/5537163/san-miguel-vs-cen
 tral-norte/
STATUS:CONFIRMED
END:VEVENT
END:VCALENDAR
