BEGIN:VCALENDAR
VERSION:2.0
PRODID:-//StreamRadar//Match Calendar//EN
CALSCALE:GREGORIAN
METHOD:PUBLISH
X-WR-CALNAME:SJK Akatemia vs KÃ¤Pa
X-WR-TIMEZONE:America/New_York
BEGIN:VEVENT
UID:match-5535695@streamradar.soccer
SUMMARY:SJK Akatemia vs KÃ¤Pa
DTSTAMP:20260425T162436Z
DTSTART;TZID=America/New_York:20260919T110000
DTEND;TZID=America/New_York:20260919T130000
LOCATION:OmaSp Stadion
DESCRIPTION:Wo Sie SJK Akatemia vs KÃ¤Pa in Finnland - YkkÃ¶sliiga sehen kÃ
 ¶nnen. Live-Stream und TV-Programm.\nhttps://streamradar.soccer/de/match/55
 35695/sjk-akatemia-vs-kapa/
URL;VALUE=URI:https://streamradar.soccer/de/match/5535695/sjk-akatemia-vs-k
 apa/
STATUS:CONFIRMED
END:VEVENT
END:VCALENDAR
