BEGIN:VCALENDAR
VERSION:2.0
PRODID:-//StreamRadar//Match Calendar//EN
CALSCALE:GREGORIAN
METHOD:PUBLISH
X-WR-CALNAME:NSÍ vs Víkingur
X-WR-TIMEZONE:America/New_York
BEGIN:VEVENT
UID:match-5535054@streamradar.soccer
SUMMARY:NSÍ vs Víkingur
DTSTAMP:20260425T132740Z
DTSTART;TZID=America/New_York:20260913T100000
DTEND;TZID=America/New_York:20260913T120000
DESCRIPTION:Wo Sie NSÍ vs Víkingur in Färöer-Inseln - Premier League se
 hen können. Live-Stream und TV-Programm.\nhttps://streamradar.soccer/de/ma
 tch/5535054/nsi-vs-vikingur/
URL;VALUE=URI:https://streamradar.soccer/de/match/5535054/nsi-vs-vikingur/
STATUS:CONFIRMED
END:VEVENT
END:VCALENDAR
