BEGIN:VCALENDAR
VERSION:2.0
PRODID:-//StreamRadar//Match Calendar//EN
CALSCALE:GREGORIAN
METHOD:PUBLISH
X-WR-CALNAME:Hässleholms IF vs Trollhättan
X-WR-TIMEZONE:America/New_York
BEGIN:VEVENT
UID:match-5534760@streamradar.soccer
SUMMARY:Hässleholms IF vs Trollhättan
DTSTAMP:20260423T101158Z
DTSTART;TZID=America/New_York:20260920T100000
DTEND;TZID=America/New_York:20260920T120000
LOCATION:Osteras IP
DESCRIPTION:Wo Sie Hässleholms IF vs Trollhättan in Schweden - Ettan sehe
 n können. Live-Stream und TV-Programm.\nhttps://streamradar.soccer/de/matc
 h/5534760/hassleholms-if-vs-trollhattan/
URL;VALUE=URI:https://streamradar.soccer/de/match/5534760/hassleholms-if-vs
 -trollhattan/
STATUS:CONFIRMED
END:VEVENT
END:VCALENDAR
