BEGIN:VCALENDAR
VERSION:2.0
PRODID:-//StreamRadar//Match Calendar//EN
CALSCALE:GREGORIAN
METHOD:PUBLISH
X-WR-CALNAME:RosengÃ¥rd vs Trelleborg FF
X-WR-TIMEZONE:America/New_York
BEGIN:VEVENT
UID:match-5534754@streamradar.soccer
SUMMARY:RosengÃ¥rd vs Trelleborg FF
DTSTAMP:20260421T095658Z
DTSTART;TZID=America/New_York:20260917T130000
DTEND;TZID=America/New_York:20260917T150000
DESCRIPTION:Wo Sie RosengÃ¥rd vs Trelleborg FF in Schweden - Ettan sehen kÃ
 ¶nnen. Live-Stream und TV-Programm.\nhttps://streamradar.soccer/de/match/55
 34754/rosengard-vs-trelleborg-ff/
URL;VALUE=URI:https://streamradar.soccer/de/match/5534754/rosengard-vs-trel
 leborg-ff/
STATUS:CONFIRMED
END:VEVENT
END:VCALENDAR
