BEGIN:VCALENDAR
VERSION:2.0
PRODID:-//StreamRadar//Match Calendar//EN
CALSCALE:GREGORIAN
METHOD:PUBLISH
X-WR-CALNAME:IF Karlstad vs FBK Karlstad
X-WR-TIMEZONE:America/New_York
BEGIN:VEVENT
UID:match-5534512@streamradar.soccer
SUMMARY:IF Karlstad vs FBK Karlstad
DTSTAMP:20260421T095835Z
DTSTART;TZID=America/New_York:20260916T130000
DTEND;TZID=America/New_York:20260916T150000
LOCATION:Tingvalla IP
DESCRIPTION:Wo Sie IF Karlstad vs FBK Karlstad in Schweden - Ettan sehen kÃ
 ¶nnen. Live-Stream und TV-Programm.\nhttps://streamradar.soccer/de/match/55
 34512/if-karlstad-vs-fbk-karlstad/
URL;VALUE=URI:https://streamradar.soccer/de/match/5534512/if-karlstad-vs-fb
 k-karlstad/
STATUS:CONFIRMED
END:VEVENT
END:VCALENDAR
