BEGIN:VCALENDAR
VERSION:2.0
PRODID:-//StreamRadar//Match Calendar//EN
CALSCALE:GREGORIAN
METHOD:PUBLISH
X-WR-CALNAME:Claypole vs Yupanqui
X-WR-TIMEZONE:America/New_York
BEGIN:VEVENT
UID:match-5534238@streamradar.soccer
SUMMARY:Claypole vs Yupanqui
DTSTAMP:20260422T033655Z
DTSTART;TZID=America/New_York:20260919T160000
DTEND;TZID=America/New_York:20260919T180000
DESCRIPTION:Wo Sie Claypole vs Yupanqui in Argentinien - Primera C Metropol
 itana sehen können. Live-Stream und TV-Programm.\nhttps://streamradar.socc
 er/de/match/5534238/claypole-vs-yupanqui/
URL;VALUE=URI:https://streamradar.soccer/de/match/5534238/claypole-vs-yupan
 qui/
STATUS:CONFIRMED
END:VEVENT
END:VCALENDAR
