BEGIN:VCALENDAR
VERSION:2.0
PRODID:-//StreamRadar//Match Calendar//EN
CALSCALE:GREGORIAN
METHOD:PUBLISH
X-WR-CALNAME:Estrella del Sur vs Deportivo Paraguayo
X-WR-TIMEZONE:America/New_York
BEGIN:VEVENT
UID:match-5534129@streamradar.soccer
SUMMARY:Estrella del Sur vs Deportivo Paraguayo
DTSTAMP:20260421T224500Z
DTSTART;TZID=America/New_York:20260725T160000
DTEND;TZID=America/New_York:20260725T180000
DESCRIPTION:Wo Sie Estrella Del Sur vs Deportivo Paraguayo in Argentinien -
  Primera C Metropolitana sehen können. Live-Stream und TV-Programm.\nhttps
 ://streamradar.soccer/de/match/5534129/estrella-del-sur-vs-deportivo-paragu
 ayo/
URL;VALUE=URI:https://streamradar.soccer/de/match/5534129/estrella-del-sur-
 vs-deportivo-paraguayo/
STATUS:CONFIRMED
END:VEVENT
END:VCALENDAR
