BEGIN:VCALENDAR
VERSION:2.0
PRODID:-//StreamRadar//Match Calendar//EN
CALSCALE:GREGORIAN
METHOD:PUBLISH
X-WR-CALNAME:Mercedes vs El Porvenir
X-WR-TIMEZONE:America/New_York
BEGIN:VEVENT
UID:match-5534122@streamradar.soccer
SUMMARY:Mercedes vs El Porvenir
DTSTAMP:20260422T015641Z
DTSTART;TZID=America/New_York:20260718T160000
DTEND;TZID=America/New_York:20260718T180000
DESCRIPTION:Wo Sie Mercedes vs El Porvenir in Argentinien - Primera C Metro
 politana sehen können. Live-Stream und TV-Programm.\nhttps://streamradar.s
 occer/de/match/5534122/mercedes-vs-el-porvenir/
URL;VALUE=URI:https://streamradar.soccer/de/match/5534122/mercedes-vs-el-po
 rvenir/
STATUS:CONFIRMED
END:VEVENT
END:VCALENDAR
