BEGIN:VCALENDAR
VERSION:2.0
PRODID:-//StreamRadar//Match Calendar//EN
CALSCALE:GREGORIAN
METHOD:PUBLISH
X-WR-CALNAME:Sangju Sangmu vs Gwangju
X-WR-TIMEZONE:America/New_York
BEGIN:VEVENT
UID:match-5533806@streamradar.soccer
SUMMARY:Sangju Sangmu vs Gwangju
DTSTAMP:20260422T012246Z
DTSTART;TZID=America/New_York:20260906T060000
DTEND;TZID=America/New_York:20260906T080000
LOCATION:Gimcheon Stadium
DESCRIPTION:Wo Sie Sangju Sangmu vs Gwangju in Südkorea - K League 1 sehen
  können. Live-Stream und TV-Programm.\nhttps://streamradar.soccer/de/match
 /5533806/sangju-sangmu-vs-gwangju/
URL;VALUE=URI:https://streamradar.soccer/de/match/5533806/sangju-sangmu-vs-
 gwangju/
STATUS:CONFIRMED
END:VEVENT
END:VCALENDAR
