BEGIN:VCALENDAR
VERSION:2.0
PRODID:-//StreamRadar//Match Calendar//EN
CALSCALE:GREGORIAN
METHOD:PUBLISH
X-WR-CALNAME:Dinamo Batumi vs Saburtalo
X-WR-TIMEZONE:America/New_York
BEGIN:VEVENT
UID:match-5532392@streamradar.soccer
SUMMARY:Dinamo Batumi vs Saburtalo
DTSTAMP:20260421T211043Z
DTSTART;TZID=America/New_York:20260909T090000
DTEND;TZID=America/New_York:20260909T110000
LOCATION:Adjarabet Arena
DESCRIPTION:Wo Sie Dinamo Batumi vs Saburtalo in Georgien - Erovnuli Liga s
 ehen können. Live-Stream und TV-Programm.\nhttps://streamradar.soccer/de/m
 atch/5532392/dinamo-batumi-vs-saburtalo/
URL;VALUE=URI:https://streamradar.soccer/de/match/5532392/dinamo-batumi-vs-
 saburtalo/
STATUS:CONFIRMED
END:VEVENT
END:VCALENDAR
