BEGIN:VCALENDAR
VERSION:2.0
PRODID:-//StreamRadar//Match Calendar//EN
CALSCALE:GREGORIAN
METHOD:PUBLISH
X-WR-CALNAME:Dila vs Gagra
X-WR-TIMEZONE:America/New_York
BEGIN:VEVENT
UID:match-5532387@streamradar.soccer
SUMMARY:Dila vs Gagra
DTSTAMP:20260422T045545Z
DTSTART;TZID=America/New_York:20260905T090000
DTEND;TZID=America/New_York:20260905T110000
LOCATION:Tengiz Burjanadze Stadium
DESCRIPTION:Wo Sie Dila vs Gagra in Georgien - Erovnuli Liga sehen können.
  Live-Stream und TV-Programm.\nhttps://streamradar.soccer/de/match/5532387/
 dila-vs-gagra/
URL;VALUE=URI:https://streamradar.soccer/de/match/5532387/dila-vs-gagra/
STATUS:CONFIRMED
END:VEVENT
END:VCALENDAR
