BEGIN:VCALENDAR
VERSION:2.0
PRODID:-//StreamRadar//Match Calendar//EN
CALSCALE:GREGORIAN
METHOD:PUBLISH
X-WR-CALNAME:Örebro vs United Nordic
X-WR-TIMEZONE:America/New_York
BEGIN:VEVENT
UID:match-5531904@streamradar.soccer
SUMMARY:Örebro vs United Nordic
DTSTAMP:20260422T005921Z
DTSTART;TZID=America/New_York:20260913T090000
DTEND;TZID=America/New_York:20260913T110000
LOCATION:Behrn Arena
DESCRIPTION:Wo Sie Örebro vs United Nordic in Schweden - Superettan sehen 
 können. Live-Stream und TV-Programm.\nhttps://streamradar.soccer/de/match/
 5531904/orebro-vs-united-nordic/
URL;VALUE=URI:https://streamradar.soccer/de/match/5531904/orebro-vs-united-
 nordic/
STATUS:CONFIRMED
END:VEVENT
END:VCALENDAR
