BEGIN:VCALENDAR
VERSION:2.0
PRODID:-//StreamRadar//Match Calendar//EN
CALSCALE:GREGORIAN
METHOD:PUBLISH
X-WR-CALNAME:Norrby vs Varberg
X-WR-TIMEZONE:America/New_York
BEGIN:VEVENT
UID:match-5531902@streamradar.soccer
SUMMARY:Norrby vs Varberg
DTSTAMP:20260422T005804Z
DTSTART;TZID=America/New_York:20260913T090000
DTEND;TZID=America/New_York:20260913T110000
DESCRIPTION:Wo Sie Norrby vs Varberg in Schweden - Superettan sehen können
 . Live-Stream und TV-Programm.\nhttps://streamradar.soccer/de/match/5531902
 /norrby-vs-varberg/
URL;VALUE=URI:https://streamradar.soccer/de/match/5531902/norrby-vs-varberg
 /
STATUS:CONFIRMED
END:VEVENT
END:VCALENDAR
