BEGIN:VCALENDAR
VERSION:2.0
PRODID:-//StreamRadar//Match Calendar//EN
CALSCALE:GREGORIAN
METHOD:PUBLISH
X-WR-CALNAME:Røa vs Vålerenga
X-WR-TIMEZONE:America/New_York
BEGIN:VEVENT
UID:match-5509922@streamradar.soccer
SUMMARY:Røa vs Vålerenga
DTSTAMP:20260421T060934Z
DTSTART;TZID=America/New_York:20260912T090000
DTEND;TZID=America/New_York:20260912T110000
LOCATION:Roabanen
DESCRIPTION:Wo Sie Røa vs Vålerenga in Norwegen - Toppserien sehen könne
 n. Live-Stream und TV-Programm.\nhttps://streamradar.soccer/de/match/550992
 2/roa-vs-valerenga/
URL;VALUE=URI:https://streamradar.soccer/de/match/5509922/roa-vs-valerenga/
STATUS:CONFIRMED
END:VEVENT
END:VCALENDAR
