BEGIN:VCALENDAR
VERSION:2.0
PRODID:-//StreamRadar//Match Calendar//EN
CALSCALE:GREGORIAN
METHOD:PUBLISH
X-WR-CALNAME:Union Omaha vs One Knoxville
X-WR-TIMEZONE:America/New_York
BEGIN:VEVENT
UID:match-5509608@streamradar.soccer
SUMMARY:Union Omaha vs One Knoxville
DTSTAMP:20260425T174324Z
DTSTART;TZID=America/New_York:20260919T200000
DTEND;TZID=America/New_York:20260919T220000
LOCATION:Werner Park
DESCRIPTION:Wo Sie Union Omaha vs One Knoxville in Vereinigte Staaten - USL
  League One sehen können. Live-Stream und TV-Programm.\nhttps://streamrada
 r.soccer/de/match/5509608/union-omaha-vs-one-knoxville/
URL;VALUE=URI:https://streamradar.soccer/de/match/5509608/union-omaha-vs-on
 e-knoxville/
STATUS:CONFIRMED
END:VEVENT
END:VCALENDAR
