BEGIN:VCALENDAR
VERSION:2.0
PRODID:-//StreamRadar//Match Calendar//EN
CALSCALE:GREGORIAN
METHOD:PUBLISH
X-WR-CALNAME:Charlotte Independence vs Westchester SC
X-WR-TIMEZONE:America/New_York
BEGIN:VEVENT
UID:match-5509590@streamradar.soccer
SUMMARY:Charlotte Independence vs Westchester SC
DTSTAMP:20260421T093619Z
DTSTART;TZID=America/New_York:20260912T190000
DTEND;TZID=America/New_York:20260912T210000
LOCATION:American Legion Memorial Stadium
DESCRIPTION:Wo Sie Charlotte Independence vs Westchester SC in Vereinigte S
 taaten - USL League One sehen können. Live-Stream und TV-Programm.\nhttps:
 //streamradar.soccer/de/match/5509590/charlotte-independence-vs-westchester
 -sc/
URL;VALUE=URI:https://streamradar.soccer/de/match/5509590/charlotte-indepen
 dence-vs-westchester-sc/
STATUS:CONFIRMED
END:VEVENT
END:VCALENDAR
