BEGIN:VCALENDAR
VERSION:2.0
PRODID:-//StreamRadar//Match Calendar//EN
CALSCALE:GREGORIAN
METHOD:PUBLISH
X-WR-CALNAME:Växjö vs Hammarby
X-WR-TIMEZONE:America/New_York
BEGIN:VEVENT
UID:match-5509153@streamradar.soccer
SUMMARY:Växjö vs Hammarby
DTSTAMP:20260421T172618Z
DTSTART;TZID=America/New_York:20260913T090000
DTEND;TZID=America/New_York:20260913T110000
LOCATION:Visma Arena
DESCRIPTION:Wo Sie Växjö vs Hammarby in Schweden - Damallsvenskan sehen k
 önnen. Live-Stream und TV-Programm.\nhttps://streamradar.soccer/de/match/5
 509153/vaxjo-vs-hammarby/
URL;VALUE=URI:https://streamradar.soccer/de/match/5509153/vaxjo-vs-hammarby
 /
STATUS:CONFIRMED
END:VEVENT
END:VCALENDAR
