BEGIN:VCALENDAR
VERSION:2.0
PRODID:-//StreamRadar//Match Calendar//EN
CALSCALE:GREGORIAN
METHOD:PUBLISH
X-WR-CALNAME:Ranheim vs Åsane
X-WR-TIMEZONE:America/New_York
BEGIN:VEVENT
UID:match-5507617@streamradar.soccer
SUMMARY:Ranheim vs Åsane
DTSTAMP:20260421T124704Z
DTSTART;TZID=America/New_York:20260913T110000
DTEND;TZID=America/New_York:20260913T130000
LOCATION:EXTRA Arena
DESCRIPTION:Wo Sie Ranheim vs Åsane in Norwegen - OBOS-ligaen sehen könne
 n. Live-Stream und TV-Programm.\nhttps://streamradar.soccer/de/match/550761
 7/ranheim-vs-asane/
URL;VALUE=URI:https://streamradar.soccer/de/match/5507617/ranheim-vs-asane/
STATUS:CONFIRMED
END:VEVENT
END:VCALENDAR
