BEGIN:VCALENDAR
VERSION:2.0
PRODID:-//StreamRadar//Match Calendar//EN
CALSCALE:GREGORIAN
METHOD:PUBLISH
X-WR-CALNAME:Viking vs LillestrÃ¸m
X-WR-TIMEZONE:America/New_York
BEGIN:VEVENT
UID:match-5506742@streamradar.soccer
SUMMARY:Viking vs LillestrÃ¸m
DTSTAMP:20260425T162332Z
DTSTART;TZID=America/New_York:20260920T110000
DTEND;TZID=America/New_York:20260920T130000
LOCATION:Lyse Arena
DESCRIPTION:Wo Sie Viking vs LillestrÃ¸m in Norwegen - Eliteserien sehen kÃ
 ¶nnen. Live-Stream und TV-Programm.\nhttps://streamradar.soccer/de/match/55
 06742/viking-vs-lillestrom/
URL;VALUE=URI:https://streamradar.soccer/de/match/5506742/viking-vs-lillest
 rom/
STATUS:CONFIRMED
END:VEVENT
END:VCALENDAR
